BEGIN:VCALENDAR
PRODID:-//github.com/ical-org/ical.net//NONSGML ical.net 4.0//EN
VERSION:2.0
BEGIN:VEVENT
DTEND:20260420T103000
DTSTAMP:20260419T202720Z
DTSTART:20260420T094500
LOCATION:Ardfallen Centre\, Douglas\, Cork\, Nursery Drive\, Ballinlough\,
  Cork
SEQUENCE:0
SUMMARY:Mixed Age Class (newborn to age 5) with Alice
UID:9357952
END:VEVENT
BEGIN:VEVENT
DTEND:20260425T103000
DTSTAMP:20260419T202720Z
DTSTART:20260425T094500
LOCATION:Ardfallen Centre\, Douglas\, Cork\, Nursery Drive\, Ballinlough\,
  Cork
SEQUENCE:0
SUMMARY:Mixed Age Class (newborn to age 5) with Alice
UID:9311828
END:VEVENT
BEGIN:VEVENT
DTEND:20260427T103000
DTSTAMP:20260419T202720Z
DTSTART:20260427T094500
LOCATION:Ardfallen Centre\, Douglas\, Cork\, Nursery Drive\, Ballinlough\,
  Cork
SEQUENCE:0
SUMMARY:Mixed Age Class (newborn to age 5) with Alice
UID:9241068
END:VEVENT
BEGIN:VEVENT
DTEND:20260504T103000
DTSTAMP:20260419T202720Z
DTSTART:20260504T094500
LOCATION:Ardfallen Centre\, Douglas\, Cork\, Nursery Drive\, Ballinlough\,
  Cork
SEQUENCE:0
SUMMARY:Mixed Age Class (newborn to age 5) with Alice
UID:9357936
END:VEVENT
BEGIN:VEVENT
DTEND:20260511T103000
DTSTAMP:20260419T202720Z
DTSTART:20260511T094500
LOCATION:Ardfallen Centre\, Douglas\, Cork\, Nursery Drive\, Ballinlough\,
  Cork
SEQUENCE:0
SUMMARY:Mixed Age Class (newborn to age 5) with Alice
UID:9241070
END:VEVENT
BEGIN:VEVENT
DTEND:20260518T103000
DTSTAMP:20260419T202720Z
DTSTART:20260518T094500
LOCATION:Ardfallen Centre\, Douglas\, Cork\, Nursery Drive\, Ballinlough\,
  Cork
SEQUENCE:0
SUMMARY:Mixed Age Class (newborn to age 5) with Alice
UID:9241071
END:VEVENT
BEGIN:VEVENT
DTEND:20260525T103000
DTSTAMP:20260419T202720Z
DTSTART:20260525T094500
LOCATION:Ardfallen Centre\, Douglas\, Cork\, Nursery Drive\, Ballinlough\,
  Cork
SEQUENCE:0
SUMMARY:Mixed Age Class (newborn to age 5) with Alice
UID:9241072
END:VEVENT
BEGIN:VEVENT
DTEND:20260608T103000
DTSTAMP:20260419T202720Z
DTSTART:20260608T094500
LOCATION:Ardfallen Centre\, Douglas\, Cork\, Nursery Drive\, Ballinlough\,
  Cork
SEQUENCE:0
SUMMARY:Mixed Age Class (newborn to age 5) with Alice
UID:9241073
END:VEVENT
BEGIN:VEVENT
DTEND:20260615T103000
DTSTAMP:20260419T202720Z
DTSTART:20260615T094500
LOCATION:Ardfallen Centre\, Douglas\, Cork\, Nursery Drive\, Ballinlough\,
  Cork
SEQUENCE:0
SUMMARY:Mixed Age Class (newborn to age 5) with Alice
UID:9311829
END:VEVENT
BEGIN:VEVENT
DTEND:20260622T103000
DTSTAMP:20260419T202720Z
DTSTART:20260622T094500
LOCATION:Ardfallen Centre\, Douglas\, Cork\, Nursery Drive\, Ballinlough\,
  Cork
SEQUENCE:0
SUMMARY:Mixed Age Class (newborn to age 5) with Alice
UID:9311830
END:VEVENT
BEGIN:VTIMEZONE
TZID:Europe/London
X-LIC-LOCATION:Europe/London
END:VTIMEZONE
END:VCALENDAR
