BEGIN:VCALENDAR
PRODID:-//github.com/ical-org/ical.net//NONSGML ical.net 4.0//EN
VERSION:2.0
BEGIN:VEVENT
DTEND:20260420T114500
DTSTAMP:20260419T201729Z
DTSTART:20260420T110000
LOCATION:Ardfallen Centre\, Douglas\, Cork\, Nursery Drive\, Ballinlough\,
  Cork
SEQUENCE:0
SUMMARY:Mixed Age Class (newborn to age 5) with Alice
UID:9241075
END:VEVENT
BEGIN:VEVENT
DTEND:20260425T114500
DTSTAMP:20260419T201729Z
DTSTART:20260425T110000
LOCATION:Ardfallen Centre\, Douglas\, Cork\, Nursery Drive\, Ballinlough\,
  Cork
SEQUENCE:0
SUMMARY:Mixed Age Class (newborn to age 5) with Alice
UID:9311841
END:VEVENT
BEGIN:VEVENT
DTEND:20260427T114500
DTSTAMP:20260419T201729Z
DTSTART:20260427T110000
LOCATION:Ardfallen Centre\, Douglas\, Cork\, Nursery Drive\, Ballinlough\,
  Cork
SEQUENCE:0
SUMMARY:Mixed Age Class (newborn to age 5) with Alice
UID:9241076
END:VEVENT
BEGIN:VEVENT
DTEND:20260511T114500
DTSTAMP:20260419T201729Z
DTSTART:20260511T110000
LOCATION:Ardfallen Centre\, Douglas\, Cork\, Nursery Drive\, Ballinlough\,
  Cork
SEQUENCE:0
SUMMARY:Mixed Age Class (newborn to age 5) with Alice
UID:9241079
END:VEVENT
BEGIN:VEVENT
DTEND:20260518T114500
DTSTAMP:20260419T201729Z
DTSTART:20260518T110000
LOCATION:Ardfallen Centre\, Douglas\, Cork\, Nursery Drive\, Ballinlough\,
  Cork
SEQUENCE:0
SUMMARY:Mixed Age Class (newborn to age 5) with Alice
UID:9241080
END:VEVENT
BEGIN:VEVENT
DTEND:20260525T114500
DTSTAMP:20260419T201729Z
DTSTART:20260525T110000
LOCATION:Ardfallen Centre\, Douglas\, Cork\, Nursery Drive\, Ballinlough\,
  Cork
SEQUENCE:0
SUMMARY:Mixed Age Class (newborn to age 5) with Alice
UID:9357953
END:VEVENT
BEGIN:VEVENT
DTEND:20260608T114500
DTSTAMP:20260419T201729Z
DTSTART:20260608T110000
LOCATION:Ardfallen Centre\, Douglas\, Cork\, Nursery Drive\, Ballinlough\,
  Cork
SEQUENCE:0
SUMMARY:Mixed Age Class (newborn to age 5) with Alice
UID:9241081
END:VEVENT
BEGIN:VEVENT
DTEND:20260615T114500
DTSTAMP:20260419T201729Z
DTSTART:20260615T110000
LOCATION:Ardfallen Centre\, Douglas\, Cork\, Nursery Drive\, Ballinlough\,
  Cork
SEQUENCE:0
SUMMARY:Mixed Age Class (newborn to age 5) with Alice
UID:9311842
END:VEVENT
BEGIN:VEVENT
DTEND:20260622T114500
DTSTAMP:20260419T201729Z
DTSTART:20260622T110000
LOCATION:Ardfallen Centre\, Douglas\, Cork\, Nursery Drive\, Ballinlough\,
  Cork
SEQUENCE:0
SUMMARY:Mixed Age Class (newborn to age 5) with Alice
UID:9311843
END:VEVENT
BEGIN:VTIMEZONE
TZID:Europe/London
X-LIC-LOCATION:Europe/London
END:VTIMEZONE
END:VCALENDAR
