BEGIN:VCALENDAR
PRODID:-//github.com/ical-org/ical.net//NONSGML ical.net 4.0//EN
VERSION:2.0
BEGIN:VEVENT
DTEND:20260422T114500
DTSTAMP:20260419T201711Z
DTSTART:20260422T110000
LOCATION:Ardfallen Centre\, Douglas\, Cork\, Nursery Drive\, Ballinlough\,
  Cork
SEQUENCE:0
SUMMARY:Mixed Age Class (newborn to age 5) with Mairéad
UID:9241100
END:VEVENT
BEGIN:VEVENT
DTEND:20260429T114500
DTSTAMP:20260419T201711Z
DTSTART:20260429T110000
LOCATION:Ardfallen Centre\, Douglas\, Cork\, Nursery Drive\, Ballinlough\,
  Cork
SEQUENCE:0
SUMMARY:Mixed Age Class (newborn to age 5) with Mairéad
UID:9241101
END:VEVENT
BEGIN:VEVENT
DTEND:20260506T114500
DTSTAMP:20260419T201711Z
DTSTART:20260506T110000
LOCATION:Ardfallen Centre\, Douglas\, Cork\, Nursery Drive\, Ballinlough\,
  Cork
SEQUENCE:0
SUMMARY:Mixed Age Class (newborn to age 5) with Mairéad
UID:9241102
END:VEVENT
BEGIN:VEVENT
DTEND:20260513T114500
DTSTAMP:20260419T201711Z
DTSTART:20260513T110000
LOCATION:Ardfallen Centre\, Douglas\, Cork\, Nursery Drive\, Ballinlough\,
  Cork
SEQUENCE:0
SUMMARY:Mixed Age Class (newborn to age 5) with Mairéad
UID:9241103
END:VEVENT
BEGIN:VEVENT
DTEND:20260520T114500
DTSTAMP:20260419T201711Z
DTSTART:20260520T110000
LOCATION:Ardfallen Centre\, Douglas\, Cork\, Nursery Drive\, Ballinlough\,
  Cork
SEQUENCE:0
SUMMARY:Mixed Age Class (newborn to age 5) with Mairéad
UID:9241104
END:VEVENT
BEGIN:VEVENT
DTEND:20260527T114500
DTSTAMP:20260419T201711Z
DTSTART:20260527T110000
LOCATION:Ardfallen Centre\, Douglas\, Cork\, Nursery Drive\, Ballinlough\,
  Cork
SEQUENCE:0
SUMMARY:Mixed Age Class (newborn to age 5) with Mairéad
UID:9241105
END:VEVENT
BEGIN:VTIMEZONE
TZID:Europe/London
X-LIC-LOCATION:Europe/London
END:VTIMEZONE
END:VCALENDAR
