BEGIN:VCALENDAR
PRODID:-//github.com/ical-org/ical.net//NONSGML ical.net 4.0//EN
VERSION:2.0
BEGIN:VEVENT
DTEND:20260422T140000
DTSTAMP:20260419T201615Z
DTSTART:20260422T131500
LOCATION:Ardfallen Centre\, Douglas\, Cork\, Nursery Drive\, Ballinlough\,
  Cork
SEQUENCE:0
SUMMARY:Mixed Age Class (newborn to age 5) with Mairéad
UID:9241108
END:VEVENT
BEGIN:VEVENT
DTEND:20260429T140000
DTSTAMP:20260419T201615Z
DTSTART:20260429T131500
LOCATION:Ardfallen Centre\, Douglas\, Cork\, Nursery Drive\, Ballinlough\,
  Cork
SEQUENCE:0
SUMMARY:Mixed Age Class (newborn to age 5) with Mairéad
UID:9241109
END:VEVENT
BEGIN:VEVENT
DTEND:20260506T140000
DTSTAMP:20260419T201615Z
DTSTART:20260506T131500
LOCATION:Ardfallen Centre\, Douglas\, Cork\, Nursery Drive\, Ballinlough\,
  Cork
SEQUENCE:0
SUMMARY:Mixed Age Class (newborn to age 5) with Mairéad
UID:9241110
END:VEVENT
BEGIN:VEVENT
DTEND:20260513T140000
DTSTAMP:20260419T201615Z
DTSTART:20260513T131500
LOCATION:Ardfallen Centre\, Douglas\, Cork\, Nursery Drive\, Ballinlough\,
  Cork
SEQUENCE:0
SUMMARY:Mixed Age Class (newborn to age 5) with Mairéad
UID:9241111
END:VEVENT
BEGIN:VEVENT
DTEND:20260520T140000
DTSTAMP:20260419T201615Z
DTSTART:20260520T131500
LOCATION:Ardfallen Centre\, Douglas\, Cork\, Nursery Drive\, Ballinlough\,
  Cork
SEQUENCE:0
SUMMARY:Mixed Age Class (newborn to age 5) with Mairéad
UID:9241112
END:VEVENT
BEGIN:VEVENT
DTEND:20260527T140000
DTSTAMP:20260419T201615Z
DTSTART:20260527T131500
LOCATION:Ardfallen Centre\, Douglas\, Cork\, Nursery Drive\, Ballinlough\,
  Cork
SEQUENCE:0
SUMMARY:Mixed Age Class (newborn to age 5) with Mairéad
UID:9241113
END:VEVENT
BEGIN:VTIMEZONE
TZID:Europe/London
X-LIC-LOCATION:Europe/London
END:VTIMEZONE
END:VCALENDAR
