BEGIN:VCALENDAR
PRODID:-//github.com/ical-org/ical.net//NONSGML ical.net 4.0//EN
VERSION:2.0
BEGIN:VEVENT
DTEND:20260423T114500
DTSTAMP:20260419T195355Z
DTSTART:20260423T110000
LOCATION:Ardfallen Centre\, Douglas\, Cork\, Nursery Drive\, Ballinlough\,
  Cork
SEQUENCE:0
SUMMARY:Mixed Age Class (newborn to age 5) with Mairéad
UID:9241124
END:VEVENT
BEGIN:VEVENT
DTEND:20260430T114500
DTSTAMP:20260419T195355Z
DTSTART:20260430T110000
LOCATION:Ardfallen Centre\, Douglas\, Cork\, Nursery Drive\, Ballinlough\,
  Cork
SEQUENCE:0
SUMMARY:Mixed Age Class (newborn to age 5) with Mairéad
UID:9241125
END:VEVENT
BEGIN:VEVENT
DTEND:20260507T114500
DTSTAMP:20260419T195355Z
DTSTART:20260507T110000
LOCATION:Ardfallen Centre\, Douglas\, Cork\, Nursery Drive\, Ballinlough\,
  Cork
SEQUENCE:0
SUMMARY:Mixed Age Class (newborn to age 5) with Mairéad
UID:9241126
END:VEVENT
BEGIN:VEVENT
DTEND:20260514T114500
DTSTAMP:20260419T195355Z
DTSTART:20260514T110000
LOCATION:Ardfallen Centre\, Douglas\, Cork\, Nursery Drive\, Ballinlough\,
  Cork
SEQUENCE:0
SUMMARY:Mixed Age Class (newborn to age 5) with Mairéad
UID:9241127
END:VEVENT
BEGIN:VEVENT
DTEND:20260521T114500
DTSTAMP:20260419T195355Z
DTSTART:20260521T110000
LOCATION:Ardfallen Centre\, Douglas\, Cork\, Nursery Drive\, Ballinlough\,
  Cork
SEQUENCE:0
SUMMARY:Mixed Age Class (newborn to age 5) with Mairéad
UID:9241128
END:VEVENT
BEGIN:VEVENT
DTEND:20260528T114500
DTSTAMP:20260419T195355Z
DTSTART:20260528T110000
LOCATION:Ardfallen Centre\, Douglas\, Cork\, Nursery Drive\, Ballinlough\,
  Cork
SEQUENCE:0
SUMMARY:Mixed Age Class (newborn to age 5) with Mairéad
UID:9241129
END:VEVENT
BEGIN:VTIMEZONE
TZID:Europe/London
X-LIC-LOCATION:Europe/London
END:VTIMEZONE
END:VCALENDAR
