BEGIN:VCALENDAR
PRODID:-//github.com/ical-org/ical.net//NONSGML ical.net 4.0//EN
VERSION:2.0
BEGIN:VEVENT
DTEND:20260423T130000
DTSTAMP:20260419T202737Z
DTSTART:20260423T121500
LOCATION:Ardfallen Centre\, Douglas\, Cork\, Nursery Drive\, Ballinlough\,
  Cork
SEQUENCE:0
SUMMARY:Mixed Age Class (newborn to age 5) with Mairéad
UID:9241132
END:VEVENT
BEGIN:VEVENT
DTEND:20260430T130000
DTSTAMP:20260419T202737Z
DTSTART:20260430T121500
LOCATION:Ardfallen Centre\, Douglas\, Cork\, Nursery Drive\, Ballinlough\,
  Cork
SEQUENCE:0
SUMMARY:Mixed Age Class (newborn to age 5) with Mairéad
UID:9241133
END:VEVENT
BEGIN:VEVENT
DTEND:20260507T130000
DTSTAMP:20260419T202737Z
DTSTART:20260507T121500
LOCATION:Ardfallen Centre\, Douglas\, Cork\, Nursery Drive\, Ballinlough\,
  Cork
SEQUENCE:0
SUMMARY:Mixed Age Class (newborn to age 5) with Mairéad
UID:9241134
END:VEVENT
BEGIN:VEVENT
DTEND:20260514T130000
DTSTAMP:20260419T202737Z
DTSTART:20260514T121500
LOCATION:Ardfallen Centre\, Douglas\, Cork\, Nursery Drive\, Ballinlough\,
  Cork
SEQUENCE:0
SUMMARY:Mixed Age Class (newborn to age 5) with Mairéad
UID:9241135
END:VEVENT
BEGIN:VEVENT
DTEND:20260521T130000
DTSTAMP:20260419T202737Z
DTSTART:20260521T121500
LOCATION:Ardfallen Centre\, Douglas\, Cork\, Nursery Drive\, Ballinlough\,
  Cork
SEQUENCE:0
SUMMARY:Mixed Age Class (newborn to age 5) with Mairéad
UID:9241136
END:VEVENT
BEGIN:VEVENT
DTEND:20260528T130000
DTSTAMP:20260419T202737Z
DTSTART:20260528T121500
LOCATION:Ardfallen Centre\, Douglas\, Cork\, Nursery Drive\, Ballinlough\,
  Cork
SEQUENCE:0
SUMMARY:Mixed Age Class (newborn to age 5) with Mairéad
UID:9241137
END:VEVENT
BEGIN:VTIMEZONE
TZID:Europe/London
X-LIC-LOCATION:Europe/London
END:VTIMEZONE
END:VCALENDAR
